BEGIN:VCALENDAR
VERSION:2.0
PRODID:-//PIONEERIASELAJIN LIITTO ry - ECPv6.15.4//NONSGML v1.0//EN
CALSCALE:GREGORIAN
METHOD:PUBLISH
X-WR-CALNAME:PIONEERIASELAJIN LIITTO ry
X-ORIGINAL-URL:https://www.pioneeriaselajinliitto.fi
X-WR-CALDESC:Tapahtumat PIONEERIASELAJIN LIITTO ry
REFRESH-INTERVAL;VALUE=DURATION:PT1H
X-Robots-Tag:noindex
X-PUBLISHED-TTL:PT1H
BEGIN:VTIMEZONE
TZID:Europe/Helsinki
BEGIN:DAYLIGHT
TZOFFSETFROM:+0200
TZOFFSETTO:+0300
TZNAME:EEST
DTSTART:20250330T010000
END:DAYLIGHT
BEGIN:STANDARD
TZOFFSETFROM:+0300
TZOFFSETTO:+0200
TZNAME:EET
DTSTART:20251026T010000
END:STANDARD
END:VTIMEZONE
BEGIN:VEVENT
DTSTART;TZID=Europe/Helsinki:20250322T113000
DTEND;TZID=Europe/Helsinki:20250322T173000
DTSTAMP:20260422T144517
CREATED:20250213T201628Z
LAST-MODIFIED:20250213T201628Z
UID:1772-1742643000-1742664600@www.pioneeriaselajinliitto.fi
SUMMARY:Yhteisseminaari Museo Militariassa
DESCRIPTION:Yhteisseminaari viestimiesten ja tykkimiesten kanssa. \n\n\n\n\nLyhyet katsaukset kaikista aselajeista sekä liittojen toiminnasta\n\n\n\nTavoitteena verkostoituminen ja tiedon jakaminen\n\n\n\nPilottiseminaari. Suunnattu liittojen hallitusten jäsenille.
URL:https://www.pioneeriaselajinliitto.fi/tapahtuma/yhteisseminaari-museo-militariassa/
END:VEVENT
END:VCALENDAR