BEGIN:VCALENDAR
VERSION:2.0
PRODID:-//PIONEERIASELAJIN LIITTO ry - ECPv6.15.4//NONSGML v1.0//EN
CALSCALE:GREGORIAN
METHOD:PUBLISH
X-ORIGINAL-URL:https://www.pioneeriaselajinliitto.fi
X-WR-CALDESC:Tapahtumat PIONEERIASELAJIN LIITTO ry
REFRESH-INTERVAL;VALUE=DURATION:PT1H
X-Robots-Tag:noindex
X-PUBLISHED-TTL:PT1H
BEGIN:VTIMEZONE
TZID:Europe/Helsinki
BEGIN:DAYLIGHT
TZOFFSETFROM:+0200
TZOFFSETTO:+0300
TZNAME:EEST
DTSTART:20220327T010000
END:DAYLIGHT
BEGIN:STANDARD
TZOFFSETFROM:+0300
TZOFFSETTO:+0200
TZNAME:EET
DTSTART:20221030T010000
END:STANDARD
BEGIN:DAYLIGHT
TZOFFSETFROM:+0200
TZOFFSETTO:+0300
TZNAME:EEST
DTSTART:20230326T010000
END:DAYLIGHT
BEGIN:STANDARD
TZOFFSETFROM:+0300
TZOFFSETTO:+0200
TZNAME:EET
DTSTART:20231029T010000
END:STANDARD
BEGIN:DAYLIGHT
TZOFFSETFROM:+0200
TZOFFSETTO:+0300
TZNAME:EEST
DTSTART:20240331T010000
END:DAYLIGHT
BEGIN:STANDARD
TZOFFSETFROM:+0300
TZOFFSETTO:+0200
TZNAME:EET
DTSTART:20241027T010000
END:STANDARD
BEGIN:DAYLIGHT
TZOFFSETFROM:+0200
TZOFFSETTO:+0300
TZNAME:EEST
DTSTART:20250330T010000
END:DAYLIGHT
BEGIN:STANDARD
TZOFFSETFROM:+0300
TZOFFSETTO:+0200
TZNAME:EET
DTSTART:20251026T010000
END:STANDARD
BEGIN:DAYLIGHT
TZOFFSETFROM:+0200
TZOFFSETTO:+0300
TZNAME:EEST
DTSTART:20260329T010000
END:DAYLIGHT
BEGIN:STANDARD
TZOFFSETFROM:+0300
TZOFFSETTO:+0200
TZNAME:EET
DTSTART:20261025T010000
END:STANDARD
END:VTIMEZONE
BEGIN:VEVENT
DTSTART;TZID=Europe/Helsinki:20260411T123000
DTEND;TZID=Europe/Helsinki:20260411T150000
DTSTAMP:20260421T194801
CREATED:20260411T060727Z
LAST-MODIFIED:20260411T060728Z
UID:1770-1775910600-1775919600@www.pioneeriaselajinliitto.fi
SUMMARY:Kevätkokous 2026
DESCRIPTION:Sääntömääräinen kevätkokous\, jossa mm. esitellään liiton toimintakertomus sekä tilinpäätös vuodelta 2025. \n\n\n\nPaikka: Museo Militaria\, Vanhankaupunginkatu 19 Hämeenlinna
URL:https://www.pioneeriaselajinliitto.fi/tapahtuma/kevatkokous-2026/
END:VEVENT
BEGIN:VEVENT
DTSTART;TZID=Europe/Helsinki:20250322T113000
DTEND;TZID=Europe/Helsinki:20250322T173000
DTSTAMP:20260421T194801
CREATED:20250213T201628Z
LAST-MODIFIED:20250213T201628Z
UID:1772-1742643000-1742664600@www.pioneeriaselajinliitto.fi
SUMMARY:Yhteisseminaari Museo Militariassa
DESCRIPTION:Yhteisseminaari viestimiesten ja tykkimiesten kanssa. \n\n\n\n\nLyhyet katsaukset kaikista aselajeista sekä liittojen toiminnasta\n\n\n\nTavoitteena verkostoituminen ja tiedon jakaminen\n\n\n\nPilottiseminaari. Suunnattu liittojen hallitusten jäsenille.
URL:https://www.pioneeriaselajinliitto.fi/tapahtuma/yhteisseminaari-museo-militariassa/
END:VEVENT
BEGIN:VEVENT
DTSTART;TZID=Europe/Helsinki:20231202T140000
DTEND;TZID=Europe/Helsinki:20231202T180000
DTSTAMP:20260421T194801
CREATED:20231003T193218Z
LAST-MODIFIED:20231003T193450Z
UID:1679-1701525600-1701540000@www.pioneeriaselajinliitto.fi
SUMMARY:Hakku 100 vuotta juhla
DESCRIPTION:Pioneeriaselajin Liitto ry:llä ja Hakku-lehdellä on ilo ja kunnia kutsua teidät juhlistamaan Hakku-lehden 100-vuotista taivalta Museo Militariaan 2.12.2023 klo 14.00 alkaen.  \n\n\n\nIlmoittautumiset ja mahdolliset erityisruokavaliot pyydetään ilmoittamaan 22.11. kuluessa osoitteeseen timo.j.iltanen(ät)gmail.com.  \n\n\n\nLÄMPIMÄSTI TERVETULOA!
URL:https://www.pioneeriaselajinliitto.fi/tapahtuma/hakku-100-vuotta-juhla/
END:VEVENT
BEGIN:VEVENT
DTSTART;TZID=Europe/Helsinki:20231014T140000
DTEND;TZID=Europe/Helsinki:20231014T170000
DTSTAMP:20260421T194801
CREATED:20231003T192512Z
LAST-MODIFIED:20231003T193429Z
UID:1677-1697292000-1697302800@www.pioneeriaselajinliitto.fi
SUMMARY:Hakku 100 vuotta seminaari
DESCRIPTION:Pioneeriaselajin Liitto ry:llä ja Hakku-lehdellä on ilo ja kunnia kutsua teidät Hakku-lehden 100-vuotisseminaariin Museo Militariaan Hämeenlinnassa lauantaina 14.10.2023. Kahvitarjoilu klo 13.30 ja varsinainen ohjelma klo 14.00 alkaen.  \n\n\n\nIlmoittautumiset ja erityisruokavaliot 4.10.2023 kuluessa osoitteeseen: seppoosuhonen(ät)gmail.com. \n\n\n\nLÄMPIMÄSTI TERVETULOA!
URL:https://www.pioneeriaselajinliitto.fi/tapahtuma/hakku-100-v-seminaari/
END:VEVENT
BEGIN:VEVENT
DTSTART;TZID=Europe/Helsinki:20230804T080000
DTEND;TZID=Europe/Helsinki:20230806T170000
DTSTAMP:20260421T194801
CREATED:20230305T203438Z
LAST-MODIFIED:20230305T203440Z
UID:1629-1691136000-1691341200@www.pioneeriaselajinliitto.fi
SUMMARY:HAKKU23 harjoitus
DESCRIPTION:PAL:n vuoden pääharjoitus\, uuden konseptin mukainen Hakku-harjoitus\, järjestetään tänä vuonna Vekaranjärvellä Elokuun ensimmäisenä viikonloppuna.  \n\n\n\nAlakursseina Liikkeenedistäminen (LED1)\, Raivaaminen (LED2) sekä Pioneerijoukkojen suluttamisvälineet (SUL1). Mahdollisuus ilmoittautua myös tuki- ja huoltohenkilöstöön.  \n\n\n\nIlmoittautuminen MPK:n verkkosivujen kautta.  \n\n\n\nPaikka: Karjalan Prikaati\, Vekaranjärvi.
URL:https://www.pioneeriaselajinliitto.fi/tapahtuma/hakku23-harjoitus/
END:VEVENT
BEGIN:VEVENT
DTSTART;TZID=Europe/Helsinki:20230423T120000
DTEND;TZID=Europe/Helsinki:20230423T140000
DTSTAMP:20260421T194801
CREATED:20230305T201904Z
LAST-MODIFIED:20230305T201906Z
UID:1627-1682251200-1682258400@www.pioneeriaselajinliitto.fi
SUMMARY:Kevätkokous 2023
DESCRIPTION:Sääntömääräinen kevätkokous\, jossa mm. esitellään liiton toimintakertomus sekä tilinpäätös vuodelta 2022.  \n\n\n\nPaikka: Museo Militaria\, Hämeenlinna.
URL:https://www.pioneeriaselajinliitto.fi/tapahtuma/kevatkokous-2023/
END:VEVENT
BEGIN:VEVENT
DTSTART;TZID=Europe/Helsinki:20221126T131500
DTEND;TZID=Europe/Helsinki:20221126T150000
DTSTAMP:20260421T194801
CREATED:20221030T191502Z
LAST-MODIFIED:20221030T191525Z
UID:1572-1669468500-1669474800@www.pioneeriaselajinliitto.fi
SUMMARY:Syyskokous 2022
DESCRIPTION:Sääntömääräinen syyskokous jossa mm. valitaan uudet jäsenet erovuoroisten tilalle\, esitellään liiton toimintasuunnitelma  ja talousarvio vuodelle 2023.  \n\n\n\nPaikka: Museo Militaria\, Hämeenlinna.
URL:https://www.pioneeriaselajinliitto.fi/tapahtuma/syykokous-2022/
END:VEVENT
BEGIN:VEVENT
DTSTART;TZID=Europe/Helsinki:20221016T131500
DTEND;TZID=Europe/Helsinki:20221016T143000
DTSTAMP:20260421T194801
CREATED:20221016T095326Z
LAST-MODIFIED:20221016T095328Z
UID:1569-1665926100-1665930600@www.pioneeriaselajinliitto.fi
SUMMARY:Hallituksen kokous 3/2022
DESCRIPTION:Museo Militaria\, Hämeenlinna
URL:https://www.pioneeriaselajinliitto.fi/tapahtuma/hallituksen-kokous-3-2022/
END:VEVENT
BEGIN:VEVENT
DTSTART;TZID=Europe/Helsinki:20220728T170000
DTEND;TZID=Europe/Helsinki:20220731T170000
DTSTAMP:20260421T194801
CREATED:20220522T082450Z
LAST-MODIFIED:20220530T144335Z
UID:1467-1659027600-1659286800@www.pioneeriaselajinliitto.fi
SUMMARY:HAKKU 2022
DESCRIPTION:Valtakunnallinen HAKKU 2022 -harjoitus\n\n\n\n \n\n\n\nPioneeriaselajin liitto ry järjestää Säkylässä Porin Prikaatin (PORPR) Satakunnan Pioneeri- ja Viestipataljoonan tukemana uuden tyyppisen HAKKU-harjoituksen. Harjoitus toteutetaan VEH-perusteisena. Tapahtuman järjestelyvastuissa ovat paikalliset Varsinais-Suomen Pioneerikilta ry sekä Satakunnan pioneerikilta ry. \n\n\n\nHAKKU 2022 -harjoitus sisältää kolme erillistä pioneerikurssia\, joiden aiheet ovat MPK:n pioneerikoulutusohjelman mukaisia. \n\n\n\nPION SLU2 palo- ja pelastustoiminta \n\n\n\nPION SLU3 puhdistaminen\, keskittyen henkilöpuhdistukseen \n\n\n\nPION TRA\, keskittyen omasuojaan rakennuksissa ja liikkeen edistämisen erityispiirteisiin rakennetulla alueella \n\n\n\nHarjoituksen yhteydessä on osallistujalla loistava mahdollisuus verkostoitua alan muiden aktiivisten toimijoiden kanssa\, sekä löytää hyötyä osaamistasonmittauksen yhteydessä myös niiden kurssien oppisisällöistä\, joihin hän ei itse osallistunut.
URL:https://www.pioneeriaselajinliitto.fi/tapahtuma/hakku-2022/
CATEGORIES:Koulutustapahtuma
END:VEVENT
END:VCALENDAR