BEGIN:VCALENDAR
VERSION:2.0
PRODID:-//PIONEERIASELAJIN LIITTO ry - ECPv6.15.4//NONSGML v1.0//EN
CALSCALE:GREGORIAN
METHOD:PUBLISH
X-ORIGINAL-URL:https://www.pioneeriaselajinliitto.fi
X-WR-CALDESC:Tapahtumat PIONEERIASELAJIN LIITTO ry
REFRESH-INTERVAL;VALUE=DURATION:PT1H
X-Robots-Tag:noindex
X-PUBLISHED-TTL:PT1H
BEGIN:VTIMEZONE
TZID:Europe/Helsinki
BEGIN:DAYLIGHT
TZOFFSETFROM:+0200
TZOFFSETTO:+0300
TZNAME:EEST
DTSTART:20260329T010000
END:DAYLIGHT
BEGIN:STANDARD
TZOFFSETFROM:+0300
TZOFFSETTO:+0200
TZNAME:EET
DTSTART:20261025T010000
END:STANDARD
END:VTIMEZONE
BEGIN:VEVENT
DTSTART;TZID=Europe/Helsinki:20260516T100000
DTEND;TZID=Europe/Helsinki:20260516T160000
DTSTAMP:20260422T022648
CREATED:20260411T061748Z
LAST-MODIFIED:20260411T061749Z
UID:1909-1778925600-1778947200@www.pioneeriaselajinliitto.fi
SUMMARY:Yhteisseminaari Museo Militariassa
DESCRIPTION:Yhteisseminaari viestimiesten ja tykkimiesten kanssa. \n\n\n\nLyhyet katsaukset kaikista aselajeista sekä liittojen toiminnasta \n\n\n\nTavoitteena verkostoituminen ja tiedon jakaminen \n\n\n\nKaikkien kolmen liiton jäsenet tervetulleita \n\n\n\nIlmoittautumisesta sekä muista käytännön asioista infoa myöhemin
URL:https://www.pioneeriaselajinliitto.fi/tapahtuma/yhteisseminaari-museo-militariassa-2/
END:VEVENT
END:VCALENDAR